BEGIN:VCALENDAR
VERSION:2.0
PRODID:-//Connect Williamsport//Calendar v1.0//EN
BEGIN:VEVENT
UID:2c7920e612186ef6629a484bb5ce3814758af7af
DTSTAMP:20260427
DTSTART:20260427T173000
DTEND:20260427T183000
SUMMARY: Financial Basics & Money Management with First Source Federal Credit Union
END:VEVENT
END:VCALENDAR