BEGIN:VCALENDAR
VERSION:2.0
PRODID:-//Connect Williamsport//Calendar v1.0//EN
BEGIN:VEVENT
UID:caf139defc6c038f1835c8c67bb1dd1c83c81e52
DTSTAMP:20260427
DTSTART:20260427T100000
DTEND:20260427T110000
SUMMARY:Senior Coffee & Chat
END:VEVENT
END:VCALENDAR