BEGIN:VCALENDAR
VERSION:2.0
PRODID:-//Connect Williamsport//Calendar v1.0//EN
BEGIN:VEVENT
UID:ef16284366138751153d36019ca0fbb6cc558a63
DTSTAMP:20260430
DTSTART:20260430T100000
DTEND:20260430T120000
SUMMARY:All Abilities Movie Morning: Paddington in Peru (2024)
END:VEVENT
END:VCALENDAR