BEGIN:VCALENDAR
VERSION:2.0
PRODID:-//Connect Williamsport//Calendar v1.0//EN
BEGIN:VEVENT
UID:f061dde0434eb24478d95652af6935046e28db72
DTSTAMP:20260429
DTSTART:20260429T140000
DTEND:20260429T160000
SUMMARY:Tech Help @ The Library
END:VEVENT
END:VCALENDAR