BEGIN:VCALENDAR
VERSION:2.0
PRODID:-//Connect Williamsport//Calendar v1.0//EN
BEGIN:VEVENT
UID:d36ec306e7aeb9becc6c144ad45bc7fc3b9d03c0
DTSTAMP:20260226
DTSTART:20260226T000000
DTEND:20260226T000000
SUMMARY:Taxpayer Assistance Program (TAP) Sessions with the New York State Department of Taxation and Finance
END:VEVENT
END:VCALENDAR