BEGIN:VCALENDAR
VERSION:2.0
PRODID:-//Connect Williamsport//Calendar v1.0//EN
BEGIN:VEVENT
UID:3ac99b7dd7492aa7435be8a00bd5a530730a744f
DTSTAMP:20230522
DTSTART:20230522T180000
DTEND:20230522T183000
SUMMARY:Creative Crafts with COMHPS
END:VEVENT
END:VCALENDAR