BEGIN:VCALENDAR
VERSION:2.0
PRODID:-//Connect Williamsport//Calendar v1.0//EN
BEGIN:VEVENT
UID:b133105b7a736c7dfb47f94226b50d09e5642e79
DTSTAMP:20230516
DTSTART:20230516T103000
DTEND:20230516T110000
SUMMARY:Preschool Storytime
END:VEVENT
END:VCALENDAR