BEGIN:VCALENDAR
VERSION:2.0
PRODID:-//Connect Williamsport//Calendar v1.0//EN
BEGIN:VEVENT
UID:881f95043e1e21b40ed7153bd6dc8e4980693ca3
DTSTAMP:20220125
DTSTART:20220125T183000
DTEND:20220125T190000
SUMMARY:Art in Your Pocket
END:VEVENT
END:VCALENDAR